BEGIN:VCALENDAR
VERSION:2.0
PRODID:-//Muzeum Górnictwa Węglowego - ECPv6.15.14//NONSGML v1.0//EN
CALSCALE:GREGORIAN
METHOD:PUBLISH
X-ORIGINAL-URL:https://muzeumgornictwa.pl
X-WR-CALDESC:Wydarzenia dla Muzeum Górnictwa Węglowego
REFRESH-INTERVAL;VALUE=DURATION:PT1H
X-Robots-Tag:noindex
X-PUBLISHED-TTL:PT1H
BEGIN:VTIMEZONE
TZID:UTC
BEGIN:STANDARD
TZOFFSETFROM:+0000
TZOFFSETTO:+0000
TZNAME:UTC
DTSTART:20230101T000000
END:STANDARD
END:VTIMEZONE
BEGIN:VEVENT
DTSTART;TZID=UTC:20241215T190000
DTEND;TZID=UTC:20241215T203000
DTSTAMP:20260421T065150
CREATED:20241210T114712Z
LAST-MODIFIED:20241210T114712Z
UID:10053-1734289200-1734294600@muzeumgornictwa.pl
SUMMARY:Koncert Świąteczny
DESCRIPTION:Grudzień to miesiąc kojarzący się nieodmiennie z Bożym Narodzeniem i świątecznym klimatem\, a nic tak nie wprowadza w ten charakterystyczny nastrój jak odpowiednia oprawa muzyczna. Dlatego zapraszamy na Świąteczny Koncert w Kopalni Guido 320 metrów pod ziemią\, gdzie usłyszycie najpiękniejsze polskie i zagraniczne piosenki około bożonarodzeniowe w wykonaniu zespołu rozrywkowego\, chóru\, orkiestry i nieziemskich głosów! \nNa miejscu znajduje się w pełni wyposażony bar\, gdzie można skosztować naszego lokalnego piwa Guido\, zjeść czarny chleb ze smalcem oraz zamówić ciepły posiłek\, kawę lub herbatę. \nMiejsca siedzące nienumerowane\nWstęp: +6\nIlość osób: max. 235 \nZjazdy od godziny 17:30\n17:45 – 18:40 – Muzyczne przywitanie przez Orkiestrę Dętą Muzeum Górnictwa Węglowego\nczas trwania od 19:00 do 20:30.
URL:https://muzeumgornictwa.pl/wydarzenie/koncert-swiateczny-2/
ATTACH;FMTTYPE=image/png:https://muzeumgornictwa.pl/wp-content/uploads/2024/12/KONCERT-SWIATECZNY-1_m.png
END:VEVENT
BEGIN:VEVENT
DTSTART;TZID=UTC:20241224T000000
DTEND;TZID=UTC:20241225T020000
DTSTAMP:20260421T065150
CREATED:20241210T105344Z
LAST-MODIFIED:20241216T090559Z
UID:10027-1734998400-1735092000@muzeumgornictwa.pl
SUMMARY:Pasterka 2024 w Kopalni Guido
DESCRIPTION:24 grudnia w samym sercu poziomu 170 poświęconego świętej Barbarze\, tj. w kaplicy św. Barbary odprawiona zostanie uroczysta Pasterka\, na którą serdecznie zapraszamy.\n\nWyjątkowe położenie kaplicy i panujący w niej klimat zapewne sprawią\, że tak przeżyta Pasterka na długo pozostanie w naszej pamięci\, a święta Bożego Narodzenia będą jeszcze bardziej niezwykłe.\n\n  Kiedy: wtorek\, 24 grudnia 2024 r.\, godz. 24:00\n  Gdzie: kaplica św. Barbary\, Kopalnia Guido\, ul. 3 Maja 93\, Zabrze\n  Zjazdy pod ziemię od godziny 23:00.\n  Udział w Pasterce jest bezpłatny.\n\nUwaga! Ze względu na ograniczoną liczbę miejsc prosimy o rezerwację przybycia pod nr. tel. 32 271 40 77.
URL:https://muzeumgornictwa.pl/wydarzenie/pasterka-2024-w-kopalni-guido/
ATTACH;FMTTYPE=image/png:https://muzeumgornictwa.pl/wp-content/uploads/2024/12/Pasterka-1.png
END:VEVENT
END:VCALENDAR